BEGIN:VCALENDAR
VERSION:2.0
PRODID:-// - ECPv6.15.15//NONSGML v1.0//EN
CALSCALE:GREGORIAN
METHOD:PUBLISH
X-ORIGINAL-URL:https://285islit.org
X-WR-CALDESC:Events for 
REFRESH-INTERVAL;VALUE=DURATION:PT1H
X-Robots-Tag:noindex
X-PUBLISHED-TTL:PT1H
BEGIN:VTIMEZONE
TZID:UTC
BEGIN:STANDARD
TZOFFSETFROM:+0000
TZOFFSETTO:+0000
TZNAME:UTC
DTSTART:20250101T000000
END:STANDARD
END:VTIMEZONE
BEGIN:VEVENT
DTSTART;TZID=UTC:20260322T140000
DTEND;TZID=UTC:20260322T150000
DTSTAMP:20260421T233133
CREATED:20260319T135447Z
LAST-MODIFIED:20260319T135448Z
UID:1222-1774188000-1774191600@285islit.org
SUMMARY:Ink & Impact Marketing Zoom
DESCRIPTION:Join authors for a brainstorming session about creative ways to market our books. Email diane@motinabooks.com for the Zoom link.
URL:https://285islit.org/event/ink-impact-marketing-zoom-2/
LOCATION:Colorado
END:VEVENT
END:VCALENDAR