BEGIN:VCALENDAR
VERSION:2.0
PRODID:-// - ECPv6.15.15//NONSGML v1.0//EN
CALSCALE:GREGORIAN
METHOD:PUBLISH
X-ORIGINAL-URL:https://285islit.org
X-WR-CALDESC:Events for 
REFRESH-INTERVAL;VALUE=DURATION:PT1H
X-Robots-Tag:noindex
X-PUBLISHED-TTL:PT1H
BEGIN:VTIMEZONE
TZID:UTC
BEGIN:STANDARD
TZOFFSETFROM:+0000
TZOFFSETTO:+0000
TZNAME:UTC
DTSTART:20250101T000000
END:STANDARD
END:VTIMEZONE
BEGIN:VEVENT
DTSTART;TZID=UTC:20260411T100000
DTEND;TZID=UTC:20260411T150000
DTSTAMP:20260421T220435
CREATED:20260218T013738Z
LAST-MODIFIED:20260218T013739Z
UID:1216-1775901600-1775919600@285islit.org
SUMMARY:Local Author Fair
DESCRIPTION:Celebrate local stories. Meet local writers. \n\n\n\nJoin us for a family-friendly afternoon in the foothills featuring: \n\n\n\n\nBook signings with Colorado authors\n\n\n\nA community book giveaway\n\n\n\nFun activities for kids\n\n\n\nGreat reads for every age\n\n\n\nWith Hooks & Holes mini-doughnuts\n\n\n\n\nDiscover new books\, connect with local creators\, and support the vibrant literary community in the Colorado foothills. \n\n\n\nAnd\, the adorable Hooks & Holes mini-doughnut truck will be there!
URL:https://285islit.org/event/local-author-fair/
LOCATION:Colorado
END:VEVENT
END:VCALENDAR