BEGIN:VCALENDAR
VERSION:2.0
PRODID:-// - ECPv6.15.15//NONSGML v1.0//EN
CALSCALE:GREGORIAN
METHOD:PUBLISH
X-ORIGINAL-URL:https://285islit.org
X-WR-CALDESC:Events for 
REFRESH-INTERVAL;VALUE=DURATION:PT1H
X-Robots-Tag:noindex
X-PUBLISHED-TTL:PT1H
BEGIN:VTIMEZONE
TZID:UTC
BEGIN:STANDARD
TZOFFSETFROM:+0000
TZOFFSETTO:+0000
TZNAME:UTC
DTSTART:20250101T000000
END:STANDARD
END:VTIMEZONE
BEGIN:VEVENT
DTSTART;TZID=UTC:20260411T100000
DTEND;TZID=UTC:20260411T150000
DTSTAMP:20260422T012035
CREATED:20260218T013738Z
LAST-MODIFIED:20260218T013739Z
UID:1216-1775901600-1775919600@285islit.org
SUMMARY:Local Author Fair
DESCRIPTION:Celebrate local stories. Meet local writers. \n\n\n\nJoin us for a family-friendly afternoon in the foothills featuring: \n\n\n\n\nBook signings with Colorado authors\n\n\n\nA community book giveaway\n\n\n\nFun activities for kids\n\n\n\nGreat reads for every age\n\n\n\nWith Hooks & Holes mini-doughnuts\n\n\n\n\nDiscover new books\, connect with local creators\, and support the vibrant literary community in the Colorado foothills. \n\n\n\nAnd\, the adorable Hooks & Holes mini-doughnut truck will be there!
URL:https://285islit.org/event/local-author-fair/
LOCATION:Colorado
END:VEVENT
BEGIN:VEVENT
DTSTART;TZID=UTC:20260420T190000
DTEND;TZID=UTC:20260420T210000
DTSTAMP:20260422T012035
CREATED:20260416T143806Z
LAST-MODIFIED:20260416T143806Z
UID:1268-1776711600-1776718800@285islit.org
SUMMARY:Colorado Quills Writers Group
DESCRIPTION:
URL:https://285islit.org/event/colorado-quills-writers-group-3/
LOCATION:Park County Library\, Bailey\, Colorado\, 350 Bulldogger Road\, Bailey\, Colorado\, 80421
END:VEVENT
BEGIN:VEVENT
DTSTART;TZID=UTC:20260426T140000
DTEND;TZID=UTC:20260426T150000
DTSTAMP:20260422T012035
CREATED:20260319T135548Z
LAST-MODIFIED:20260319T135549Z
UID:1224-1777212000-1777215600@285islit.org
SUMMARY:Ink & Impact Marketing Zoom
DESCRIPTION:Join authors for a brainstorming session about creative ways to market our books. Email diane@motinabooks.com for the Zoom link.
URL:https://285islit.org/event/ink-impact-marketing-zoom-3/
LOCATION:Colorado
END:VEVENT
BEGIN:VEVENT
DTSTART;TZID=UTC:20260504T190000
DTEND;TZID=UTC:20260504T210000
DTSTAMP:20260422T012035
CREATED:20260319T140629Z
LAST-MODIFIED:20260319T140631Z
UID:1234-1777921200-1777928400@285islit.org
SUMMARY:Colorado Quills Writers Group
DESCRIPTION:
URL:https://285islit.org/event/colorado-quills-writers-group-2/
LOCATION:Park County Library\, Bailey\, Colorado\, 350 Bulldogger Road\, Bailey\, Colorado\, 80421
END:VEVENT
BEGIN:VEVENT
DTSTART;TZID=UTC:20260516T080000
DTEND;TZID=UTC:20260516T170000
DTSTAMP:20260422T012035
CREATED:20260319T141315Z
LAST-MODIFIED:20260319T141316Z
UID:1236-1778918400-1778950800@285islit.org
SUMMARY:Mountains of Authors
DESCRIPTION:Diane Windsor will participate in the Pikes Peak Library District’s Mountain of Authors\, representing CIPA (Collective of Independent Publishers & Authors).
URL:https://285islit.org/event/mountains-of-authors/
LOCATION:Pikes Peak Library District\, Library 21C\, 1175 Chapel Hills Dr\, Colorado Springs\, Colorado\, 80920
END:VEVENT
BEGIN:VEVENT
DTSTART;TZID=UTC:20260524T140000
DTEND;TZID=UTC:20260524T150000
DTSTAMP:20260422T012035
CREATED:20260319T135651Z
LAST-MODIFIED:20260319T135652Z
UID:1226-1779631200-1779634800@285islit.org
SUMMARY:Ink & Impact Marketing Zoom
DESCRIPTION:Join authors for a brainstorming session about creative ways to market our books. Email diane@motinabooks.com for the Zoom link.
URL:https://285islit.org/event/ink-impact-marketing-zoom-4/
LOCATION:Colorado
END:VEVENT
BEGIN:VEVENT
DTSTART;TZID=UTC:20260606T100000
DTEND;TZID=UTC:20260606T160000
DTSTAMP:20260422T012035
CREATED:20260325T135619Z
LAST-MODIFIED:20260325T135620Z
UID:1242-1780740000-1780761600@285islit.org
SUMMARY:a Borgata Vendor Fair
DESCRIPTION:This is a fun annual event on Main Street in Conifer\, in the Safeway parking lot. You’ll meet all kinds of artists and vendors. Motina Books will be there with local authors and their fabulous books.
URL:https://285islit.org/event/a-borgata-vendor-fair/
LOCATION:Colorado
END:VEVENT
BEGIN:VEVENT
DTSTART;TZID=UTC:20260628T140000
DTEND;TZID=UTC:20260628T150000
DTSTAMP:20260422T012035
CREATED:20260319T135746Z
LAST-MODIFIED:20260319T135747Z
UID:1228-1782655200-1782658800@285islit.org
SUMMARY:Ink & Impact Marketing Zoom
DESCRIPTION:Join authors for a brainstorming session about creative ways to market our books. Email diane@motinabooks.com for the Zoom link.
URL:https://285islit.org/event/ink-impact-marketing-zoom-5/
LOCATION:Colorado
END:VEVENT
BEGIN:VEVENT
DTSTART;TZID=UTC:20260711T080000
DTEND;TZID=UTC:20260712T170000
DTSTAMP:20260422T012035
CREATED:20260319T210450Z
LAST-MODIFIED:20260319T210451Z
UID:1240-1783756800-1783875600@285islit.org
SUMMARY:Park County Fair
DESCRIPTION:Come see local authors at the Park County Fair – and Sunday is Family Day\, so it’ll be lots of fun for the kiddoes!
URL:https://285islit.org/event/park-county-fair/
LOCATION:Colorado
END:VEVENT
END:VCALENDAR