BEGIN:VCALENDAR
VERSION:2.0
PRODID:-// - ECPv6.15.15//NONSGML v1.0//EN
CALSCALE:GREGORIAN
METHOD:PUBLISH
X-ORIGINAL-URL:https://285islit.org
X-WR-CALDESC:Events for 
REFRESH-INTERVAL;VALUE=DURATION:PT1H
X-Robots-Tag:noindex
X-PUBLISHED-TTL:PT1H
BEGIN:VTIMEZONE
TZID:UTC
BEGIN:STANDARD
TZOFFSETFROM:+0000
TZOFFSETTO:+0000
TZNAME:UTC
DTSTART:20250101T000000
END:STANDARD
END:VTIMEZONE
BEGIN:VEVENT
DTSTART;TZID=UTC:20260504T190000
DTEND;TZID=UTC:20260504T210000
DTSTAMP:20260421T215954
CREATED:20260319T140629Z
LAST-MODIFIED:20260319T140631Z
UID:1234-1777921200-1777928400@285islit.org
SUMMARY:Colorado Quills Writers Group
DESCRIPTION:
URL:https://285islit.org/event/colorado-quills-writers-group-2/
LOCATION:Park County Library\, Bailey\, Colorado\, 350 Bulldogger Road\, Bailey\, Colorado\, 80421
END:VEVENT
BEGIN:VEVENT
DTSTART;TZID=UTC:20260516T080000
DTEND;TZID=UTC:20260516T170000
DTSTAMP:20260421T215954
CREATED:20260319T141315Z
LAST-MODIFIED:20260319T141316Z
UID:1236-1778918400-1778950800@285islit.org
SUMMARY:Mountains of Authors
DESCRIPTION:Diane Windsor will participate in the Pikes Peak Library District’s Mountain of Authors\, representing CIPA (Collective of Independent Publishers & Authors).
URL:https://285islit.org/event/mountains-of-authors/
LOCATION:Pikes Peak Library District\, Library 21C\, 1175 Chapel Hills Dr\, Colorado Springs\, Colorado\, 80920
END:VEVENT
BEGIN:VEVENT
DTSTART;TZID=UTC:20260524T140000
DTEND;TZID=UTC:20260524T150000
DTSTAMP:20260421T215954
CREATED:20260319T135651Z
LAST-MODIFIED:20260319T135652Z
UID:1226-1779631200-1779634800@285islit.org
SUMMARY:Ink & Impact Marketing Zoom
DESCRIPTION:Join authors for a brainstorming session about creative ways to market our books. Email diane@motinabooks.com for the Zoom link.
URL:https://285islit.org/event/ink-impact-marketing-zoom-4/
LOCATION:Colorado
END:VEVENT
END:VCALENDAR